BEGIN:VCALENDAR
VERSION:2.0
PRODID:-//UTD - ECPv5.14.1//NONSGML v1.0//EN
CALSCALE:GREGORIAN
METHOD:PUBLISH
X-WR-CALNAME:UTD
X-ORIGINAL-URL:https://utd.ubp.edu.ar
X-WR-CALDESC:Events for UTD
REFRESH-INTERVAL;VALUE=DURATION:PT1H
X-Robots-Tag:noindex
X-PUBLISHED-TTL:PT1H
BEGIN:VTIMEZONE
TZID:America/Argentina/Buenos_Aires
BEGIN:STANDARD
TZOFFSETFROM:-0300
TZOFFSETTO:-0300
TZNAME:-03
DTSTART:20220101T000000
END:STANDARD
END:VTIMEZONE
BEGIN:VEVENT
DTSTART;TZID=America/Argentina/Buenos_Aires:20220419T180000
DTEND;TZID=America/Argentina/Buenos_Aires:20220419T200000
DTSTAMP:20260420T224959
CREATED:20220412T175120Z
LAST-MODIFIED:20220412T181741Z
UID:187-1650391200-1650398400@utd.ubp.edu.ar
SUMMARY:1º SEMINARIO: Nuevas Tecnologías para la Industria 4.0 - Parte 1
DESCRIPTION:Dirigido a: PyMES de la Provincia de Córdoba\nModalidad: virtual\nDuración: 120 minutos de capacitación \nInscripción: LINK o FORMULARIO \nTemáticas: \n\nIndustria 4.0 y 4º Revolución Industrial\nBig Data y analíticas de datos\nPlan de Transformación Digital\nNuevas Tecnologías\nInteligencia Artificial\nCiberseguridad
URL:https://utd.ubp.edu.ar/evento/1o-seminario-nuevas-tecnologias-para-la-industria-4-0-parte-1/
CATEGORIES:Seminario
ATTACH;FMTTYPE=image/png:https://utd.ubp.edu.ar/wp-content/uploads/2022/04/seminario-01.png
END:VEVENT
END:VCALENDAR